BEGIN:VCALENDAR
VERSION:2.0
PRODID:-//papaya.events - ECPv6.15.18//NONSGML v1.0//EN
CALSCALE:GREGORIAN
METHOD:PUBLISH
X-WR-CALNAME:papaya.events
X-ORIGINAL-URL:https://www.papaya.events
X-WR-CALDESC:Events for papaya.events
REFRESH-INTERVAL;VALUE=DURATION:PT1H
X-Robots-Tag:noindex
X-PUBLISHED-TTL:PT1H
BEGIN:VTIMEZONE
TZID:Europe/Paris
BEGIN:DAYLIGHT
TZOFFSETFROM:+0100
TZOFFSETTO:+0200
TZNAME:CEST
DTSTART:20250330T010000
END:DAYLIGHT
BEGIN:STANDARD
TZOFFSETFROM:+0200
TZOFFSETTO:+0100
TZNAME:CET
DTSTART:20251026T010000
END:STANDARD
BEGIN:DAYLIGHT
TZOFFSETFROM:+0100
TZOFFSETTO:+0200
TZNAME:CEST
DTSTART:20260329T010000
END:DAYLIGHT
BEGIN:STANDARD
TZOFFSETFROM:+0200
TZOFFSETTO:+0100
TZNAME:CET
DTSTART:20261025T010000
END:STANDARD
BEGIN:DAYLIGHT
TZOFFSETFROM:+0100
TZOFFSETTO:+0200
TZNAME:CEST
DTSTART:20270328T010000
END:DAYLIGHT
BEGIN:STANDARD
TZOFFSETFROM:+0200
TZOFFSETTO:+0100
TZNAME:CET
DTSTART:20271031T010000
END:STANDARD
END:VTIMEZONE
BEGIN:VEVENT
DTSTART;TZID=Europe/Paris:20260307T180000
DTEND;TZID=Europe/Paris:20260308T020000
DTSTAMP:20260419T151217
CREATED:20260212T181320Z
LAST-MODIFIED:20260212T181320Z
UID:3289-1772906400-1772935200@www.papaya.events
SUMMARY:Umaški Kružni 3 | Powered by Papaya Events
DESCRIPTION:Days\n			 :				\n				Hours\n			:				\n				Minutes\n			:				\n				Seconds\n			\n\n         \n		\n	\nUmaški Kružni 3 | Powered by Papaya Events\n\n\nU kružnom toku izađite na izlaz 3… jer stiže UMAŠKI KRUŽNI 3!\n07.03.2026. | Umag\nNakon izvrsnih prijašnjih izdanja\, treći po redu Umaški kružni\, ovaj put sa malom promjenom lokacija I odličnim fondom nagrada!\nGdje kružimo ovaj put:Fons Bar – Ben ValleyCaffe Bar Spritz – Kell Klesinger & DJ RicchyKaraka Bar – TheoxSnack Bar Garden – Edi Makon liveAmerican Bar – DJ Yankee (after party)\nVrijeme eventa:18:00 – 00:00 kruženje po barovima00:00 – 02:00 after party u American Baru01:00 izvlačenje nagrada u American Baru\nKako funkcionira:Na početku preuzmite svoju EVENT PUTOVNICU u bilo kojem od barova.Obiđite četiri bara i uz konzumaciju pića prikupite naljepnice.Zatim se uputite u American Bar po petu naljepnicu.Predajom ispunjene putovnice ulazite u nagradnu igru.\nNagrade UMAŠKOG KRUŽNOG 3:Smartwatch – emobileProfesionalno fotografiranje – Samantha Smilović (Moon Weddings)Traditional degustation – Vinarija CujPoklon bon za šišanje – BajbershopPoklon bon – Nixus\n\nGlazbeni koncept:Svaki bar nudi vlastiti glazbeni stil\, od energičnih DJ setova do opuštenijih ritmova\, stvarajući raznoliku i zanimljivu atmosferu tijekom cijelog događaja.\nZa kraj\, VELIKO HVALA svim našim sponzorima: Moon Weddings\, Niara Tattoo Studio\, Padel Centar Umag\, Johnnie Walker Hrvatska\, Bajber Shop Umag\, RK Umag\, Vinarija Cuj\, Nixus Umag\, emobile Umag\, Restoran Badi\, Petram resort!\nDatum: 07.03.2026.\nLokacije: Fons Bar\, Caffe Bar Spritz\, Snack bar Garden\, Karaka bar & American Bar\nVrijeme: 18:00 – 00:00 (kruženje) | 00:00 – 02:00 (after) | 01:00 (izvlačenje nagrada)
URL:https://www.papaya.events/event/umaski-kruzni-3-powered-by-papaya-events/
LOCATION:Grad Umag\, Trg 1. svibnja\, Umag\, Istria\, 52470\, Croatia (Local Name: Hrvatska)
CATEGORIES:Bar,Ben Valley,Club,Kell Klesinger,Theox
ATTACH;FMTTYPE=image/jpeg:https://www.papaya.events/wp-content/uploads/2026/02/2026-03-07_web.jpg
ORGANIZER;CN="papaya.events":MAILTO:info@papaya.events
END:VEVENT
END:VCALENDAR