BEGIN:VCALENDAR
VERSION:2.0
PRODID:-//papaya.events - ECPv6.15.18//NONSGML v1.0//EN
CALSCALE:GREGORIAN
METHOD:PUBLISH
X-ORIGINAL-URL:https://www.papaya.events
X-WR-CALDESC:Events for papaya.events
REFRESH-INTERVAL;VALUE=DURATION:PT1H
X-Robots-Tag:noindex
X-PUBLISHED-TTL:PT1H
BEGIN:VTIMEZONE
TZID:Europe/Paris
BEGIN:DAYLIGHT
TZOFFSETFROM:+0100
TZOFFSETTO:+0200
TZNAME:CEST
DTSTART:20240331T010000
END:DAYLIGHT
BEGIN:STANDARD
TZOFFSETFROM:+0200
TZOFFSETTO:+0100
TZNAME:CET
DTSTART:20241027T010000
END:STANDARD
BEGIN:DAYLIGHT
TZOFFSETFROM:+0100
TZOFFSETTO:+0200
TZNAME:CEST
DTSTART:20250330T010000
END:DAYLIGHT
BEGIN:STANDARD
TZOFFSETFROM:+0200
TZOFFSETTO:+0100
TZNAME:CET
DTSTART:20251026T010000
END:STANDARD
BEGIN:DAYLIGHT
TZOFFSETFROM:+0100
TZOFFSETTO:+0200
TZNAME:CEST
DTSTART:20260329T010000
END:DAYLIGHT
BEGIN:STANDARD
TZOFFSETFROM:+0200
TZOFFSETTO:+0100
TZNAME:CET
DTSTART:20261025T010000
END:STANDARD
END:VTIMEZONE
BEGIN:VEVENT
DTSTART;TZID=Europe/Paris:20251129T180000
DTEND;TZID=Europe/Paris:20251130T020000
DTSTAMP:20260419T174921
CREATED:20251127T000926Z
LAST-MODIFIED:20251127T001943Z
UID:2872-1764439200-1764468000@www.papaya.events
SUMMARY:Back To The 90's @ Luka Caffe' | Music By Ben Valley | Powered by Papaya Events
DESCRIPTION:Days\n			 :				\n				Hours\n			:				\n				Minutes\n			:				\n				Seconds\n			\n\n         \n		\n	\nBack To The 90’s @ Luka Caffe’ | Music By Ben Valley | Powered by Papaya Events
URL:https://www.papaya.events/event/back-to-the-90s-luka-caffe-music-by-ben-valley-powered-by-papaya-events/
LOCATION:Luka Caffe’ & Wine Bar\, Trgovačka ul. 4\, 52470\, Umag\, Umag\, 52470\, Croatia (Local Name: Hrvatska)
CATEGORIES:Bar,Ben Valley
ATTACH;FMTTYPE=image/jpeg:https://www.papaya.events/wp-content/uploads/2025/11/90-Luka-16-9-WEB.jpg
ORGANIZER;CN="papaya.events":MAILTO:info@papaya.events
END:VEVENT
END:VCALENDAR